BEGIN:VCALENDAR
VERSION:2.0
PRODID:-//wp-events-plugin.com//7.2.3.1//EN
TZID:Europe/Vienna
X-WR-TIMEZONE:Europe/Vienna
BEGIN:VEVENT
UID:4545@pielachtal.at
DTSTART;TZID=Europe/Vienna:20260602T090000
DTEND;TZID=Europe/Vienna:20260602T110000
DTSTAMP:20260420T084750Z
URL:https://pielachtal.at/veranstaltung/naturspielgruppe-weinburg-5/
SUMMARY:Naturspielgruppe Weinburg
DESCRIPTION:Für Mamas\, Papas (oder andere Bezugspersonen) mit ihren Babys
  und Kleinkindern (0-3 Jahre).\nGemeinsam tauchen wir spielerisch in die w
 underbare Welt der Natur ein. Zwischen Wiesen\, Blüten und Kräutern erle
 ben wir wertvolle Naturmomente\, singen\, entdecken und staunen.\nKräuter
 pädagogische Inputs über Pflanzenheilkunde\, Wildkräuterküche und nat
 ürliche Hausapotheke – praxisnah und inspirierend für euren Familienal
 ltag\, mit viel Raum für eure individuellen Fragen und Erfahrungen.\n\nAn
 meldung bei Sabine Gruber unter 0681/81842263 oder sabinegruber@outlook.at
 \nwww.sabinegruber.com
ATTACH;FMTTYPE=image/jpeg:https://pielachtal.at/wp-content/uploads/2026/04
 /Naturspielgruppe-Weinburg-.png
CATEGORIES:Eltern-Kind-Zentrum,Vortrag,Beratung
LOCATION:TEH Kräuterschaugarten Weinburg\, Brüder-Teichstraße 32\, Weinb
 urg\, Niederösterreich\, 3205\, Österreich
X-APPLE-STRUCTURED-LOCATION;VALUE=URI;X-ADDRESS=Brüder-Teichstraße 32\, W
 einburg\, Niederösterreich\, 3205\, Österreich;X-APPLE-RADIUS=100;X-TITL
 E=TEH Kräuterschaugarten Weinburg:geo:0,0
END:VEVENT
BEGIN:VTIMEZONE
TZID:Europe/Vienna
X-LIC-LOCATION:Europe/Vienna
BEGIN:DAYLIGHT
DTSTART:20260329T030000
TZOFFSETFROM:+0100
TZOFFSETTO:+0200
TZNAME:CEST
END:DAYLIGHT
END:VTIMEZONE
END:VCALENDAR